BEGIN:VCALENDAR
VERSION:2.0
PRODID:-//Jonesboro First United Methodist Church - ECPv6.15.20//NONSGML v1.0//EN
CALSCALE:GREGORIAN
METHOD:PUBLISH
X-ORIGINAL-URL:https://jonesboroumc.com
X-WR-CALDESC:Events for Jonesboro First United Methodist Church
REFRESH-INTERVAL;VALUE=DURATION:PT1H
X-Robots-Tag:noindex
X-PUBLISHED-TTL:PT1H
BEGIN:VTIMEZONE
TZID:America/Halifax
BEGIN:DAYLIGHT
TZOFFSETFROM:-0400
TZOFFSETTO:-0300
TZNAME:ADT
DTSTART:20250309T060000
END:DAYLIGHT
BEGIN:STANDARD
TZOFFSETFROM:-0300
TZOFFSETTO:-0400
TZNAME:AST
DTSTART:20251102T050000
END:STANDARD
BEGIN:DAYLIGHT
TZOFFSETFROM:-0400
TZOFFSETTO:-0300
TZNAME:ADT
DTSTART:20260308T060000
END:DAYLIGHT
BEGIN:STANDARD
TZOFFSETFROM:-0300
TZOFFSETTO:-0400
TZNAME:AST
DTSTART:20261101T050000
END:STANDARD
BEGIN:DAYLIGHT
TZOFFSETFROM:-0400
TZOFFSETTO:-0300
TZNAME:ADT
DTSTART:20270314T060000
END:DAYLIGHT
BEGIN:STANDARD
TZOFFSETFROM:-0300
TZOFFSETTO:-0400
TZNAME:AST
DTSTART:20271107T050000
END:STANDARD
END:VTIMEZONE
BEGIN:VEVENT
DTSTART;TZID=America/Halifax:20260806T160000
DTEND;TZID=America/Halifax:20260806T173000
DTSTAMP:20260423T152523
CREATED:20260318T021218Z
LAST-MODIFIED:20260318T021218Z
UID:10000017-1786032000-1786037400@jonesboroumc.com
SUMMARY:Better Healed than Unhealed
DESCRIPTION:
URL:https://jonesboroumc.com/event/better-healed-than-unhealed-12/
ATTACH;FMTTYPE=image/jpeg:https://jonesboroumc.com/wp-content/uploads/2026/03/bYE8Jt_1773688190.jpg
END:VEVENT
END:VCALENDAR